BEGIN:VCALENDAR
VERSION:2.0
PRODID:-//Port of Brownsville - ECPv6.15.20//NONSGML v1.0//EN
CALSCALE:GREGORIAN
METHOD:PUBLISH
X-WR-CALNAME:Port of Brownsville
X-ORIGINAL-URL:https://portofbrownsville.org
X-WR-CALDESC:Events for Port of Brownsville
REFRESH-INTERVAL;VALUE=DURATION:PT1H
X-Robots-Tag:noindex
X-PUBLISHED-TTL:PT1H
BEGIN:VTIMEZONE
TZID:America/Los_Angeles
BEGIN:DAYLIGHT
TZOFFSETFROM:-0800
TZOFFSETTO:-0700
TZNAME:PDT
DTSTART:20250309T100000
END:DAYLIGHT
BEGIN:STANDARD
TZOFFSETFROM:-0700
TZOFFSETTO:-0800
TZNAME:PST
DTSTART:20251102T090000
END:STANDARD
BEGIN:DAYLIGHT
TZOFFSETFROM:-0800
TZOFFSETTO:-0700
TZNAME:PDT
DTSTART:20260308T100000
END:DAYLIGHT
BEGIN:STANDARD
TZOFFSETFROM:-0700
TZOFFSETTO:-0800
TZNAME:PST
DTSTART:20261101T090000
END:STANDARD
BEGIN:DAYLIGHT
TZOFFSETFROM:-0800
TZOFFSETTO:-0700
TZNAME:PDT
DTSTART:20270314T100000
END:DAYLIGHT
BEGIN:STANDARD
TZOFFSETFROM:-0700
TZOFFSETTO:-0800
TZNAME:PST
DTSTART:20271107T090000
END:STANDARD
END:VTIMEZONE
BEGIN:VEVENT
DTSTART;TZID=America/Los_Angeles:20260319T180000
DTEND;TZID=America/Los_Angeles:20260319T190000
DTSTAMP:20260420T112340
CREATED:20260223T225655Z
LAST-MODIFIED:20260319T204316Z
UID:10000066-1773943200-1773946800@portofbrownsville.org
SUMMARY:Regular Commission Meeting
DESCRIPTION:Invite link:\nhttps://us06web.zoom.us/j/88023037362?pwd=PkVSu8vDsBntWbwOJ7Q16e2N8obBOM.1\n\nMeeting ID: 880 2303 7362\n\n\nPasscode: 945063
URL:https://portofbrownsville.org/event/regular-commission-meeting/
CATEGORIES:General Commission Meeting
END:VEVENT
END:VCALENDAR