BEGIN:VCALENDAR
VERSION:2.0
PRODID:-//Port of Brownsville - ECPv6.15.20//NONSGML v1.0//EN
CALSCALE:GREGORIAN
METHOD:PUBLISH
X-WR-CALNAME:Port of Brownsville
X-ORIGINAL-URL:https://portofbrownsville.org
X-WR-CALDESC:Events for Port of Brownsville
REFRESH-INTERVAL;VALUE=DURATION:PT1H
X-Robots-Tag:noindex
X-PUBLISHED-TTL:PT1H
BEGIN:VTIMEZONE
TZID:America/Los_Angeles
BEGIN:DAYLIGHT
TZOFFSETFROM:-0800
TZOFFSETTO:-0700
TZNAME:PDT
DTSTART:20240310T100000
END:DAYLIGHT
BEGIN:STANDARD
TZOFFSETFROM:-0700
TZOFFSETTO:-0800
TZNAME:PST
DTSTART:20241103T090000
END:STANDARD
BEGIN:DAYLIGHT
TZOFFSETFROM:-0800
TZOFFSETTO:-0700
TZNAME:PDT
DTSTART:20250309T100000
END:DAYLIGHT
BEGIN:STANDARD
TZOFFSETFROM:-0700
TZOFFSETTO:-0800
TZNAME:PST
DTSTART:20251102T090000
END:STANDARD
BEGIN:DAYLIGHT
TZOFFSETFROM:-0800
TZOFFSETTO:-0700
TZNAME:PDT
DTSTART:20260308T100000
END:DAYLIGHT
BEGIN:STANDARD
TZOFFSETFROM:-0700
TZOFFSETTO:-0800
TZNAME:PST
DTSTART:20261101T090000
END:STANDARD
END:VTIMEZONE
BEGIN:VEVENT
DTSTART;TZID=America/Los_Angeles:20251217T180000
DTEND;TZID=America/Los_Angeles:20251217T190000
DTSTAMP:20260420T180928
CREATED:20250304T204904Z
LAST-MODIFIED:20251216T232528Z
UID:10000028-1765994400-1765998000@portofbrownsville.org
SUMMARY:Commission Meeting
DESCRIPTION:Agenda \nZoom \n  \n\n\n\n\nMeeting id: 813 3702 7173 \n\n\n\n\n\n\n\n\n\n\n\nPasscode: 648491
URL:https://portofbrownsville.org/event/commission-meeting-december-2025/
LOCATION:9756 Ogle Rd\, Bremerton\, wa 98311\, 9790 Ogle Rd NE\, Brownsville\, WA\, 98311\, United States
CATEGORIES:General Commission Meeting
END:VEVENT
END:VCALENDAR