BEGIN:VCALENDAR
VERSION:2.0
PRODID:-//Port of Brownsville - ECPv6.15.20//NONSGML v1.0//EN
CALSCALE:GREGORIAN
METHOD:PUBLISH
X-WR-CALNAME:Port of Brownsville
X-ORIGINAL-URL:https://portofbrownsville.org
X-WR-CALDESC:Events for Port of Brownsville
REFRESH-INTERVAL;VALUE=DURATION:PT1H
X-Robots-Tag:noindex
X-PUBLISHED-TTL:PT1H
BEGIN:VTIMEZONE
TZID:America/Los_Angeles
BEGIN:DAYLIGHT
TZOFFSETFROM:-0800
TZOFFSETTO:-0700
TZNAME:PDT
DTSTART:20250309T100000
END:DAYLIGHT
BEGIN:STANDARD
TZOFFSETFROM:-0700
TZOFFSETTO:-0800
TZNAME:PST
DTSTART:20251102T090000
END:STANDARD
BEGIN:DAYLIGHT
TZOFFSETFROM:-0800
TZOFFSETTO:-0700
TZNAME:PDT
DTSTART:20260308T100000
END:DAYLIGHT
BEGIN:STANDARD
TZOFFSETFROM:-0700
TZOFFSETTO:-0800
TZNAME:PST
DTSTART:20261101T090000
END:STANDARD
BEGIN:DAYLIGHT
TZOFFSETFROM:-0800
TZOFFSETTO:-0700
TZNAME:PDT
DTSTART:20270314T100000
END:DAYLIGHT
BEGIN:STANDARD
TZOFFSETFROM:-0700
TZOFFSETTO:-0800
TZNAME:PST
DTSTART:20271107T090000
END:STANDARD
END:VTIMEZONE
BEGIN:VEVENT
DTSTART;TZID=America/Los_Angeles:20260206T130000
DTEND;TZID=America/Los_Angeles:20260206T140000
DTSTAMP:20260423T021131
CREATED:20260202T220531Z
LAST-MODIFIED:20260202T220531Z
UID:10000064-1770382800-1770386400@portofbrownsville.org
SUMMARY:Special Meeting
DESCRIPTION:2.6.26 Agenda
URL:https://portofbrownsville.org/event/special-meeting-13/
CATEGORIES:Special Commission Meeting
END:VEVENT
END:VCALENDAR